BEGIN:VCALENDAR
VERSION:2.0
PRODID:-//ChamberMaster//Event Calendar 2.0//EN
METHOD:PUBLISH
X-PUBLISHED-TTL:P3D
REFRESH-INTERVAL:P3D
CALSCALE:GREGORIAN
BEGIN:VEVENT
DTSTART:20251217T200000Z
DTEND:20251217T210000Z
X-MICROSOFT-CDO-ALLDAYEVENT:FALSE
SUMMARY:Handmade for the Holidays: Glass Etching
DESCRIPTION:Get in the holiday spirit with our Handmade for the Holidays program! Tuesday the 16th from 3-4pm\, using stencils and glass etching cream\, we'll teach you how to create a customized glass plate that you can display in your home or use as a gift!
X-ALT-DESC;FMTTYPE=text/html:<span style="color:rgb(62\, 62\, 62)\; font-family:system-ui\; font-size:12.8px">Get in the holiday spirit with our Handmade for the Holidays program! Tuesday the 16th from 3-4pm\, using stencils and glass etching cream\, we&#39\;ll teach you how to create a customized glass plate that you can display in your home or use as a gift!</span>
LOCATION:Cartersville Public Library 429 W Main St Cartersville\, GA 30121
UID:e.1202.172134
SEQUENCE:3
DTSTAMP:20260421T214638Z
URL:https://business.cartersvillechamber.com/events/details/handmade-for-the-holidays-glass-etching-172134
END:VEVENT

END:VCALENDAR
