BEGIN:VCALENDAR
VERSION:2.0
PRODID:-//ChamberMaster//Event Calendar 2.0//EN
METHOD:PUBLISH
X-PUBLISHED-TTL:P3D
REFRESH-INTERVAL:P3D
CALSCALE:GREGORIAN
BEGIN:VEVENT
DTSTART:20240921T120000Z
DTEND:20240921T153000Z
X-MICROSOFT-CDO-ALLDAYEVENT:FALSE
SUMMARY:Headstone Preservation Workshop
DESCRIPTION:The Euharlee History Museum is joining us again for our annual Headstone Preservation Workshop! Historic preservationist Paige Jennings will lead the workshop\, focusing on headstone cleaning and cemetery preservation at the Euharlee Presbyterian Church Cemetery. Preserving headstones is crucial for maintaining historical records and honoring the memories of those who have passed. Using proper techniques helps prevent damage and ensures these monuments endure for future generations.
X-ALT-DESC;FMTTYPE=text/html:The Euharlee History Museum is joining us again for our annual Headstone Preservation Workshop! Historic preservationist Paige Jennings will lead the workshop\, focusing on headstone cleaning and cemetery preservation at the Euharlee Presbyterian Church Cemetery. Preserving headstones is crucial for maintaining historical records and honoring the memories of those who have passed. Using proper techniques helps prevent damage and ensures these monuments endure for future generations.
LOCATION:4 E Church St. Cartersville\, GA 30120
UID:e.1202.166282
SEQUENCE:3
DTSTAMP:20260422T185616Z
URL:https://business.cartersvillechamber.com/events/details/headstone-preservation-workshop-09-21-2024-166282
END:VEVENT

END:VCALENDAR
