BEGIN:VCALENDAR
VERSION:2.0
PRODID:-//ChamberMaster//Event Calendar 2.0//EN
METHOD:PUBLISH
X-PUBLISHED-TTL:P3D
REFRESH-INTERVAL:P3D
CALSCALE:GREGORIAN
BEGIN:VEVENT
DTSTART:20260226T180000Z
DTEND:20260226T190000Z
X-MICROSOFT-CDO-ALLDAYEVENT:FALSE
SUMMARY:"Health Insurance 101 for Small Business Owners and Startups" Online Workshop
DESCRIPTION:"Health Insurance 101 for Small Business Owners and Startups" Online Workshop\n\n\n\nThursday\, February 26\, 2026\, 1:00 PM - 2:00 PM\n\nFee: Free\n\n\n\nNavigating health insurance as a solopreneur or small business owner can be overwhelming\, but it doesn't have to be. Whether you're exploring coverage for yourself or considering benefits for your first employees\, understanding your options can help you make smarter\, more confident decisions.\n\n\n\nIn this webinar\, our expert presenters will break down everything you need to know about health insurance as a small business. You'll learn how to compare coverage types\, understand key terms\, and find trusted brokers or agents who can guide you through the process so you can focus on running your business with clarity and confidence.\n\n\n\nYou'll learn how to:\n\n	Understand the benefits of offering health insurance to employees\n	Compare common types of coverage and what they mean for your business\n	Navigate the health insurance marketplace with confidence\n	Identify reputable brokers or agents to help you choose a plan\n	Decode key health insurance terms and concepts\n\n\n\nRegister Online
X-ALT-DESC;FMTTYPE=text/html:<strong>&quot\;Health Insurance 101 for Small Business Owners and Startups</strong><strong>&quot\; Online Workshop<br />\n<br />\nThursday\, February 26\, 2026\, 1:00 PM - 2:00 PM<br />\nFee: Free</strong><br />\n<br />\nNavigating health insurance as a solopreneur or small business owner can be overwhelming\, but it doesn&rsquo\;t have to be. Whether you&rsquo\;re exploring coverage for yourself or considering benefits for your first employees\, understanding your options can help you make smarter\, more confident decisions.<br />\n<br />\nIn this webinar\, our expert presenters will break down everything you need to know about health insurance as a small business. You&rsquo\;ll learn how to compare coverage types\, understand key terms\, and find trusted brokers or agents who can guide you through the process so you can focus on running your business with clarity and confidence.<br />\n<br />\nYou&rsquo\;ll learn how to:\n<ul>\n	<li>Understand the benefits of offering health insurance to employees</li>\n	<li>Compare common types of coverage and what they mean for your business</li>\n	<li>Navigate the health insurance marketplace with confidence</li>\n	<li>Identify reputable brokers or agents to help you choose a plan</li>\n	<li>Decode key health insurance terms and concepts</li>\n</ul>\n<br />\n<strong><a href="https://www.score.org/event/health-insurance-101-small-business-owners-and-startups" target="_blank">Register Online</a></strong>
LOCATION:Live Online Workshop
UID:e.1202.173676
SEQUENCE:3
DTSTAMP:20260421T190050Z
URL:https://business.cartersvillechamber.com/events/details/health-insurance-101-for-small-business-owners-and-startups-online-workshop-173676
END:VEVENT

END:VCALENDAR
