BEGIN:VCALENDAR
VERSION:2.0
PRODID:-//ChamberMaster//Event Calendar 2.0//EN
METHOD:PUBLISH
X-PUBLISHED-TTL:P3D
REFRESH-INTERVAL:P3D
CALSCALE:GREGORIAN
BEGIN:VEVENT
DTSTART:20260228T150000Z
DTEND:20260228T200000Z
X-MICROSOFT-CDO-ALLDAYEVENT:FALSE
SUMMARY:Health & Wellness Fair
DESCRIPTION:Join Piedmont Cartersville & UGA extension Bartow County for a FREE Health & Wellness Fair for the whole family to enjoy\n\n-Free health screenings and demonstrations\n\n-Primary & pediatric care representatives\n\n-Substance abuse recovery representatives\n\n-Healthy nutrition info & cooking demonstrations\n\n-Children's educational activities\n\n-Entertainment\n\n-FREE lunch (from 11 am- 1 pm) provided by Men build Men & The Local Reach Project\n\n-Door prizes!\n\n-Appearance by Hairy Dawg UGA Mascot (11 am -1 pm) for photos
X-ALT-DESC;FMTTYPE=text/html:Join Piedmont Cartersville &amp\; UGA extension Bartow County for a FREE Health &amp\; Wellness Fair for the whole family to enjoy<br />\n-Free health screenings and demonstrations<br />\n-Primary &amp\; pediatric care representatives<br />\n-Substance abuse recovery representatives<br />\n-Healthy nutrition info &amp\; cooking demonstrations<br />\n-Children&#39\;s educational activities<br />\n-Entertainment<br />\n-FREE lunch (from 11 am- 1 pm) provided by Men build Men &amp\; The Local Reach Project<br />\n-Door prizes!<br />\n-Appearance by Hairy Dawg UGA Mascot (11 am -1 pm) for photos
LOCATION:Olin Tatum Building 320 West Cherokee Avenue
UID:e.1202.173668
SEQUENCE:3
DTSTAMP:20260421T185948Z
URL:https://business.cartersvillechamber.com/events/details/health-wellness-fair-02-28-2026-173668
END:VEVENT

END:VCALENDAR
