BEGIN:VCALENDAR
VERSION:2.0
PRODID:-//ChamberMaster//Event Calendar 2.0//EN
METHOD:PUBLISH
X-PUBLISHED-TTL:P3D
REFRESH-INTERVAL:P3D
CALSCALE:GREGORIAN
BEGIN:VEVENT
DTSTART:20260321T140000Z
DTEND:20260321T170000Z
X-MICROSOFT-CDO-ALLDAYEVENT:FALSE
SUMMARY:Hippity Hop at the Museum
DESCRIPTION:Celebrate spring with a festive morning of family fun! Meet the Easter Bunny\, create Easter-themed crafts\, and enjoy seasonal snacks while exploring the museum's engaging exhibits. Activities are included with regular museum admission\, and member discounts apply. Open to all ages.
X-ALT-DESC;FMTTYPE=text/html:Celebrate spring with a festive morning of family fun! Meet the Easter Bunny\, create Easter-themed crafts\, and enjoy seasonal snacks while exploring the museum&rsquo\;s engaging exhibits. Activities are included with regular museum admission\, and member discounts apply. Open to all ages.
LOCATION:Bartow History Museum 4 East Church Street Cartersville\, GA 30120
UID:e.1202.173902
SEQUENCE:3
DTSTAMP:20260421T174135Z
URL:https://business.cartersvillechamber.com/events/details/hippity-hop-at-the-museum-173902
END:VEVENT

END:VCALENDAR
