BEGIN:VCALENDAR
VERSION:2.0
PRODID:-//ChamberMaster//Event Calendar 2.0//EN
METHOD:PUBLISH
X-PUBLISHED-TTL:P3D
REFRESH-INTERVAL:P3D
CALSCALE:GREGORIAN
BEGIN:VEVENT
DTSTART:20250730T140000Z
DTEND:20250730T190000Z
X-MICROSOFT-CDO-ALLDAYEVENT:FALSE
SUMMARY:Hiring Event: Intensive Case Managers
DESCRIPTION:Highland Rivers Behavioral Health's Intensive Case Management Cartersville Program is having a hiring event Wednesday\, July 30\, 2025. We welcome walk-ins from 10 AM to 3 PM.\n\n\n\nIntensive Case Management (ICM) Team is a medium intensity community based program for adults with severe and persistent mental illnesses. The ICM Case Manager works with the individual and other supports and service providers to develop an Individual Recovery Plan (IRP) that includes the medical\, behavioral\, social\, educational\, vocational\, housing\, financial and other needs of the eligible individual.\n\n \nRemember\, all candidates must meet the job requirements below: \n\n\n	Bachelor's Degree in Helping Field\n	At least one year's experience working in mental health or substance use disorder field preferred.\n	Must have good motor vehicle report.\n	Must be 21 years of age or over\n\n\n\n\nInvite your friends or family who qualify! Email keylagarcia@highlandrivers.org if you would like to schedule an interview! \n\n \n\n*This is your chance to get the Referral Bonus!*
X-ALT-DESC;FMTTYPE=text/html:Highland Rivers Behavioral Health&#39\;s Intensive Case Management Cartersville Program is having a hiring event Wednesday\, July 30\, 2025. We welcome walk-ins from 10 AM to 3 PM.<br />\n<br />\nIntensive Case Management (ICM) Team is a medium intensity community based program for adults with severe and persistent mental illnesses. The ICM Case Manager works with the individual and other supports and service providers to develop an Individual Recovery Plan (IRP) that includes the medical\, behavioral\, social\, educational\, vocational\, housing\, financial and other needs of the eligible individual.<br />\n&nbsp\;\n<div>Remember\, all candidates must meet the job requirements below:&nbsp\;</div>\n\n<ul>\n	<li>Bachelor&rsquo\;s Degree in Helping Field</li>\n	<li>At least one year&rsquo\;s experience working in mental health or substance use disorder field preferred.</li>\n	<li>Must have good motor vehicle report.</li>\n	<li>Must be 21 years of age or over</li>\n</ul>\n\n<div><br />\nInvite your friends or family who qualify! Email <a href="mailto:keylagarcia@highlandrivers.org">keylagarcia@highlandrivers.org</a> if you would like to schedule an interview!&nbsp\;</div>\n\n<div>&nbsp\;</div>\n\n<div>*This is your chance to get the <a href="https://chambermaster.blob.core.windows.net/userfiles/UserFiles/chambers/1202/File/Event_Docs/HighlandRiversBHReferralBonus2025.pdf" target="_blank">Referral Bonus!</a>*</div>\n
LOCATION:Highland Rivers Behavioral Health 654 Joe Frank Harris Parkway SE Cartersville\, GA 30120
UID:e.1202.171563
SEQUENCE:3
DTSTAMP:20260422T045930Z
URL:https://business.cartersvillechamber.com/events/details/hiring-event-intensive-case-managers-171563
END:VEVENT

END:VCALENDAR
