BEGIN:VCALENDAR
VERSION:2.0
PRODID:-//ChamberMaster//Event Calendar 2.0//EN
METHOD:PUBLISH
X-PUBLISHED-TTL:P3D
REFRESH-INTERVAL:P3D
CALSCALE:GREGORIAN
BEGIN:VEVENT
DTSTART:20240926T180000Z
DTEND:20240926T190000Z
X-MICROSOFT-CDO-ALLDAYEVENT:FALSE
SUMMARY:Historic Train Wrecks
DESCRIPTION:Explore a compelling chapter in Bartow County's history through our photo-rich presentation on train wrecks spanning from the 1840s to the present day. This meticulously researched collection showcases Bartow's most legendary crashes\, derailments\, and collisions\, shedding light on a neglected yet significant aspect of local history that deserves recognition.
X-ALT-DESC;FMTTYPE=text/html:Explore a compelling chapter in Bartow County&#39\;s history through our photo-rich presentation on train wrecks spanning from the 1840s to the present day. This meticulously researched collection showcases Bartow&#39\;s most legendary crashes\, derailments\, and collisions\, shedding light on a neglected yet significant aspect of local history that deserves recognition.
LOCATION:GHC Cartersville Campus
UID:e.1202.166152
SEQUENCE:3
DTSTAMP:20260422T185235Z
URL:https://business.cartersvillechamber.com/events/details/historic-train-wrecks-166152
END:VEVENT

END:VCALENDAR
