BEGIN:VCALENDAR
VERSION:2.0
PRODID:-//ChamberMaster//Event Calendar 2.0//EN
METHOD:PUBLISH
X-PUBLISHED-TTL:P3D
REFRESH-INTERVAL:P3D
CALSCALE:GREGORIAN
BEGIN:VEVENT
DTSTART:20241107T220000Z
DTEND:20241108T010000Z
X-MICROSOFT-CDO-ALLDAYEVENT:FALSE
SUMMARY:Holiday Open House
DESCRIPTION:Get ready for a magical night of shopping in downtown Cartersville at the Holiday Open House! Join us for festive sips\, amazing deals\, and tasty treats on November 7th from 5-8PM!\n\n\n\nLet's bring in the holiday season together! Stay tuned for a complete list of participating business!
X-ALT-DESC;FMTTYPE=text/html:<span style="font-family:arial\;"><span style="font-size:12px\;">Get ready for a magical night of shopping in downtown Cartersville at the Holiday Open House! Join us for festive sips\, amazing deals\, and tasty treats on November 7th from 5-8PM!<br />\n<br />\nLet&#39\;s bring in the holiday season together! Stay tuned for a complete list of participating business!</span></span>
LOCATION:
UID:e.1202.164144
SEQUENCE:3
DTSTAMP:20260422T155133Z
URL:https://business.cartersvillechamber.com/events/details/holiday-open-house-164144
END:VEVENT

END:VCALENDAR
