BEGIN:VCALENDAR
VERSION:2.0
PRODID:-//ChamberMaster//Event Calendar 2.0//EN
METHOD:PUBLISH
X-PUBLISHED-TTL:P3D
REFRESH-INTERVAL:P3D
CALSCALE:GREGORIAN
BEGIN:VEVENT
DTSTART:20251106T220000Z
DTEND:20251107T010000Z
X-MICROSOFT-CDO-ALLDAYEVENT:FALSE
SUMMARY:Holiday Open House
DESCRIPTION:Get ready for a magical night of shopping in downtown Cartersville at the Holiday Open House! Join us for festive sips\, amazing deals\, and tasty treats on November 6th from 5-8PM!\n\n\n\nLet's bring in the holiday season together!
X-ALT-DESC;FMTTYPE=text/html:Get ready for a magical night of shopping in downtown Cartersville at the Holiday Open House! Join us for festive sips\, amazing deals\, and tasty treats on November 6th from 5-8PM!<br />\n<br />\nLet&#39\;s bring in the holiday season together!
LOCATION:Downtown Cartersville
UID:e.1202.172008
SEQUENCE:3
DTSTAMP:20260421T231024Z
URL:https://business.cartersvillechamber.com/events/details/holiday-open-house-172008
END:VEVENT

END:VCALENDAR
