BEGIN:VCALENDAR
VERSION:2.0
PRODID:-//ChamberMaster//Event Calendar 2.0//EN
METHOD:PUBLISH
X-PUBLISHED-TTL:P3D
REFRESH-INTERVAL:P3D
CALSCALE:GREGORIAN
BEGIN:VEVENT
DTSTART:20260213T000000Z
DTEND:20260213T014500Z
X-MICROSOFT-CDO-ALLDAYEVENT:FALSE
SUMMARY:Hope Crew Volunteer Night
DESCRIPTION:Partner with Convoy of Hope to help spread hope and kindness around the world\, serving alongside local volunteers to help process and prepare resources for global distribution\, all while jamming out to some fun music! Though different each week\, projects could range from bagging groceries to packing hygiene kits to detagging clothing items\, all for the sake of others! *Please preregister online* Interested in the work we do? Check out convoyofhope.org to learn more.
X-ALT-DESC;FMTTYPE=text/html:Partner with Convoy of Hope to help spread hope and kindness around the world\, serving alongside local volunteers to help process and prepare resources for global distribution\, all while jamming out to some fun music! Though different each week\, projects could range from bagging groceries to packing hygiene kits to detagging clothing items\, all for the sake of others! *Please preregister online* Interested in the work we do? Check out <a href="http://convoyofhope.org" target="_blank">convoyofhope.org</a> to learn more.
LOCATION:Convoy of Hope | Regional Distribution Center - East 460 Joe Frank Harris Pkwy SE #200\, Emerson\, GA 30137
UID:e.1202.173592
SEQUENCE:3
DTSTAMP:20260421T173904Z
URL:https://business.cartersvillechamber.com/events/details/hope-crew-volunteer-night-173592
END:VEVENT

END:VCALENDAR
