BEGIN:VCALENDAR
VERSION:2.0
PRODID:-//ChamberMaster//Event Calendar 2.0//EN
METHOD:PUBLISH
X-PUBLISHED-TTL:P3D
REFRESH-INTERVAL:P3D
CALSCALE:GREGORIAN
BEGIN:VEVENT
DTSTART:20250821T170000Z
DTEND:20250821T180000Z
X-MICROSOFT-CDO-ALLDAYEVENT:FALSE
SUMMARY:"How A Virtual Assistant Can Help You Grow" Online Workshop
DESCRIPTION:How A Virtual Assistant Can Help You Grow\n\n\n\nThursday\, August 21\, 2025\, 1 PM - 2 PM\n\nOnline Workshop\n\nFee: $10\n\n\n\nAs your business grows\, you've probably found yourself doing everything from client work to administrative tasks to social media management. If you're spending more time on tasks that don't directly generate revenue\, it might be time to consider hiring a virtual assistant. \n\n\n\nIn this webinar\, you will learn how to determine whether hiring a virtual assistant is right for you and identify which tasks you should keep versus delegate. You will also discover a proven strategy for delegating work effectively without micromanaging and what to realistically expect in the first few months of working together.\n\n\n\nBy the end of this session\, participants will be able to:\n\n	Identify high-impact tasks to focus on and recognize which responsibilities can (and should) be delegated to a virtual assistant\n	Understand the four levels of delegation and how to move through them effectively for maximum productivity\n	Set realistic expectations for the first 90 days of working with a virtual assistant\, including how to measure progress and build trust\n	Assess delegation readiness and create a plan to start delegating strategically\n\n\n\nRegister Online
X-ALT-DESC;FMTTYPE=text/html:<strong>How A Virtual Assistant Can Help You Grow</strong><br />\n<br />\n<strong>Thursday\, August 21\, 2025\, 1 PM - 2 PM<br />\nOnline Workshop<br />\nFee: $10</strong><br />\n<br />\nAs your business grows\, you&#39\;ve probably found yourself doing everything from client work to administrative tasks to social media management. If you&#39\;re spending more time on tasks that don&#39\;t directly generate revenue\, it might be time to consider hiring a virtual assistant.&nbsp\;<br />\n<br />\nIn this webinar\, you will learn how to determine whether hiring a virtual assistant is right for you and identify which tasks you should keep versus delegate. You will also discover a proven strategy for delegating work effectively without micromanaging and what to realistically expect in the first few months of working together.<br />\n<br />\nBy the end of this session\, participants will be able to:\n<ul>\n	<li>Identify high-impact tasks to focus on and recognize which responsibilities can (and should) be delegated to a virtual assistant</li>\n	<li>Understand the four levels of delegation and how to move through them effectively for maximum productivity</li>\n	<li>Set realistic expectations for the first 90 days of working with a virtual assistant\, including how to measure progress and build trust</li>\n	<li>Assess delegation readiness and create a plan to start delegating strategically</li>\n</ul>\n<br />\n<a href="https://www.score.org/event/overwhelmed-organized-how-a-virtual-assistant-can-help-you-grow" target="_blank">Register Online</a>
LOCATION:Online Workshop
UID:e.1202.171568
SEQUENCE:3
DTSTAMP:20260422T032828Z
URL:https://business.cartersvillechamber.com/events/details/how-a-virtual-assistant-can-help-you-grow-online-workshop-171568
END:VEVENT

END:VCALENDAR
