BEGIN:VCALENDAR
VERSION:2.0
PRODID:-//ChamberMaster//Event Calendar 2.0//EN
METHOD:PUBLISH
X-PUBLISHED-TTL:P3D
REFRESH-INTERVAL:P3D
CALSCALE:GREGORIAN
BEGIN:VEVENT
DTSTART:20250627T160000Z
DTEND:20250627T170000Z
X-MICROSOFT-CDO-ALLDAYEVENT:FALSE
SUMMARY:How AI is Transforming Manufacturing
DESCRIPTION:The manufacturing world is evolving   and artificial intelligence is leading the charge. Is your company ready to adapt and thrive?\n\n\n\nJoin us for an exclusive webinar exploring how AI is being integrated into manufacturing operations and what it means for your business.\n\n\n\nHow AI is Transforming Manufacturing\n\nDate: Friday\, June 27\n\nTime: 12:00 pm ET\n\nLocation: Zoom Webinar\n\n\n\nWhat You'll Learn: Hear from leaders in education\, industry\, and cybersecurity as they share real-world applications of AI in manufacturing\, strategies for integrating AI into your operations\, and cybersecurity considerations for AI -powered systems.\n\n\n\nWho Should Attend: Manufacturing professionals\, plant managers\, HR leaders\, workforce developers\, and anyone interested in how AI is reshaping industrial operations.\n\n\n\nStay ahead of the curve. Discover how AI can drive innovation and efficiency in your company. Register here.\n\n\n\nHosted by Northwest Georgia iWORKS.
X-ALT-DESC;FMTTYPE=text/html:<strong>The manufacturing world is evolving &mdash\; and artificial intelligence is leading the charge.</strong> Is your company ready to adapt and thrive?<br />\n<br />\nJoin us for an exclusive webinar exploring how AI is being integrated into manufacturing operations and what it means for your business.<br />\n<br />\n<strong>How AI is Transforming Manufacturing</strong><br />\n<strong>Date:</strong> Friday\, June 27<br />\n<strong>Time: </strong>12:00 pm ET<br />\n<strong>Location:</strong> Zoom Webinar<br />\n<br />\n<strong>What You&#39\;ll Learn: </strong>Hear from leaders in education\, industry\, and cybersecurity as they share real-world applications of AI in manufacturing\, strategies for integrating AI into your operations\, and cybersecurity considerations for AI -powered systems.<br />\n<br />\n<strong>Who Should Attend:</strong> Manufacturing professionals\, plant managers\, HR leaders\, workforce developers\, and anyone interested in how AI is reshaping industrial operations.<br />\n<br />\n<strong>Stay ahead of the curve. Discover how AI can drive innovation and efficiency in your company.</strong> <a href="https://gatech.zoom.us/webinar/register/8517486126569/WN_gX-QJY1RTMG7HYsah0kmog?utm_source=ActiveCampaign&amp\;utm_medium=email&amp\;utm_content=How%20AI%20is%20Transforming%20Manufacturing%20-%20Join%20our%20June%2027%20Webinar&amp\;utm_campaign=2025%20June%20iWORKS%20webinar#/registration" target="_blank">Register here</a>.<br />\n<br />\n<em>Hosted by Northwest Georgia iWORKS.</em><br />\n
LOCATION:Zoom Webinar
UID:e.1202.171034
SEQUENCE:3
DTSTAMP:20260422T063144Z
URL:https://business.cartersvillechamber.com/events/details/how-ai-is-transforming-manufacturing-171034
END:VEVENT

END:VCALENDAR
