BEGIN:VCALENDAR
VERSION:2.0
PRODID:-//ChamberMaster//Event Calendar 2.0//EN
METHOD:PUBLISH
X-PUBLISHED-TTL:P3D
REFRESH-INTERVAL:P3D
CALSCALE:GREGORIAN
BEGIN:VEVENT
DTSTART:20241120T200000Z
DTEND:20241120T210000Z
X-MICROSOFT-CDO-ALLDAYEVENT:FALSE
SUMMARY:How to Age Without Getting Old
DESCRIPTION:Join Rogena Walden on this interactive\, engaging\, informative\, and fun look at "How to Age Without Getting Old." This program is based on Rogena's recent graduate studies in aging at USC and include her personal anecdotes.
X-ALT-DESC;FMTTYPE=text/html:<span style="color:rgb(62\, 62\, 62)\; font-family:system-ui\; font-size:12.8px">Join Rogena Walden on this interactive\, engaging\, informative\, and fun look at &quot\;How to Age Without Getting Old.&quot\; This program is based on Rogena&#39\;s recent graduate studies in aging at USC and include her personal anecdotes.&nbsp\;</span>
LOCATION:Cartersville Library Meeting Room 429 West Main Street Cartersville GA 30120 US
UID:e.1202.167367
SEQUENCE:3
DTSTAMP:20260422T154909Z
URL:https://business.cartersvillechamber.com/events/details/how-to-age-without-getting-old-167367
END:VEVENT

END:VCALENDAR
