BEGIN:VCALENDAR
VERSION:2.0
PRODID:-//ChamberMaster//Event Calendar 2.0//EN
METHOD:PUBLISH
X-PUBLISHED-TTL:P3D
REFRESH-INTERVAL:P3D
CALSCALE:GREGORIAN
BEGIN:VEVENT
DTSTART:20250828T170000Z
DTEND:20250828T183000Z
X-MICROSOFT-CDO-ALLDAYEVENT:FALSE
SUMMARY:"How to Create an AI Integration Plan" Online Workshop
DESCRIPTION:How to Create an AI Integration Plan\n\n\n\nThursday\, August 28\, 2025\, 1:00 PM - 2:30 PM\n\nOnline Workshop\n\nFee: $25\n\n\n\nAI has become a valuable tool for small businesses\, improving all aspects of operations\, from marketing to financial tracking. However\, many business owners fail to integrate AI effectively\, following trends or making expensive mistakes with tools that don't fit their needs. If you want to unlock AI's true potential\, you need to take a systematic approach to identify the highest-impact opportunities and select the right tools for your business needs.\n\n\n\nIn this comprehensive webinar\, you'll learn how to create an AI integration plan and conduct a methodical review of all aspects of your business to determine exactly where AI can save you time\, reduce costs\, and improve results. We'll walk through real-world assessments of key business functions\, demonstrate specific AI tools in action\, and provide you with a complete AI Integration Assessment Checklist so you leave knowing exactly how to start your strategic AI integration and avoid costly implementation mistakes.\n\n\n\nWhat You'll Learn:\n\n	Systematic Business Analysis: Discover how to evaluate AI opportunities across multiple business functions\n	Strategic Priority Framework: Learn how to assess and rank AI implementations to maximize ROI\n	Practical Implementation Planning: Master the step-by-step process for testing\, adopting\, and scaling AI tools\n	Department-Specific Applications: Gain actionable insights for AI integration in each business function with real-world examples and recommended tools\n	Complete Integration Roadmap: Develop your personalized AI integration plan to unlock AI's true potential\n\n\n\nRegister Online
X-ALT-DESC;FMTTYPE=text/html:<strong>How to Create an AI Integration Plan</strong><br />\n<br />\n<strong>Thursday\, August 28\, 2025\, 1:00 PM - 2:30 PM<br />\nOnline Workshop<br />\nFee: $25</strong><br />\n<br />\nAI has become a valuable tool for small businesses\, improving all aspects of operations\, from marketing to financial tracking. However\, many business owners fail to integrate AI effectively\, following trends or making expensive mistakes with tools that don&#39\;t fit their needs. If you want to unlock AI&#39\;s true potential\, you need to take a systematic approach to identify the highest-impact opportunities and select the right tools for your business needs.<br />\n<br />\nIn this comprehensive webinar\, you&#39\;ll learn how to create an AI integration plan and conduct a methodical review of all aspects of your business to determine exactly where AI can save you time\, reduce costs\, and improve results. We&#39\;ll walk through real-world assessments of key business functions\, demonstrate specific AI tools in action\, and provide you with a complete AI Integration Assessment Checklist so you leave knowing exactly how to start your strategic AI integration and avoid costly implementation mistakes.<br />\n<br />\nWhat You&#39\;ll Learn:\n<ul>\n	<li>Systematic Business Analysis: Discover how to evaluate AI opportunities across multiple business functions</li>\n	<li>Strategic Priority Framework: Learn how to assess and rank AI implementations to maximize ROI</li>\n	<li>Practical Implementation Planning: Master the step-by-step process for testing\, adopting\, and scaling AI tools</li>\n	<li>Department-Specific Applications: Gain actionable insights for AI integration in each business function with real-world examples and recommended tools</li>\n	<li>Complete Integration Roadmap: Develop your personalized AI integration plan to unlock AI&#39\;s true potential</li>\n</ul>\n<br />\n<a href="https://www.score.org/event/how-create-ai-integration-plan-systematically-review-every-business-function" target="_blank">Register Online</a>
LOCATION:Online Workshop
UID:e.1202.171570
SEQUENCE:3
DTSTAMP:20260422T032648Z
URL:https://business.cartersvillechamber.com/events/details/how-to-create-an-ai-integration-plan-online-workshop-171570
END:VEVENT

END:VCALENDAR
