BEGIN:VCALENDAR
VERSION:2.0
PRODID:-//ChamberMaster//Event Calendar 2.0//EN
METHOD:PUBLISH
X-PUBLISHED-TTL:P3D
REFRESH-INTERVAL:P3D
CALSCALE:GREGORIAN
BEGIN:VEVENT
DTSTART:20250807T170000Z
DTEND:20250807T180000Z
X-MICROSOFT-CDO-ALLDAYEVENT:FALSE
SUMMARY:"How to Create E-Books\, Templates and Courses That Sell" Online Workshop
DESCRIPTION:How to Create E-Books\, Templates and Courses That Sell\n\n\n\nThursday\, August 7\, 2025\, 1 PM - 2 PM\n\nOnline Workshop\n\nFee: $15\n\n\n\nThe tools\, techniques\, and expertise you use to serve clients can easily be packaged into a digital product to create a new income stream. E-books\, templates\, and courses are some of the most effective ways to monetize what you already know\, without needing inventory\, additional staff\, or a big upfront investment.\n\n\n\nIn this webinar\, bestselling author and popular SCORE presenter Steve Strauss will walk you through the process of transforming your business knowledge into digital products people actually want to buy. You'll learn how to choose the right product\, create it quickly and strategies to get it in front of the right audience.\n\n\n\nHere is what you will learn:\n\n	Why digital products are a powerful (and scalable) income stream for any small business\n	The most popular types of digital products you can create today\n	How to come up with winning product ideas your audience actually wants\n	Simple tools to create eBooks\, templates\, planners\, and courses without overwhelm\n	Strategies to sell your product - without being salesy\n\n\n\nRegister Online
X-ALT-DESC;FMTTYPE=text/html:<strong>How to Create E-Books\, Templates and Courses That Sell</strong><br />\n<br />\n<strong>Thursday\, August 7\, 2025\, 1 PM - 2 PM<br />\nOnline Workshop<br />\nFee: $15</strong><br />\n<br />\nThe tools\, techniques\, and expertise you use to serve clients can easily be packaged into a digital product to create a new income stream. E-books\, templates\, and courses are some of the most effective ways to monetize what you already know\, without needing inventory\, additional staff\, or a big upfront investment.<br />\n<br />\nIn this webinar\, bestselling author and popular SCORE presenter Steve Strauss will walk you through the process of transforming your business knowledge into digital products people actually want to buy. You&rsquo\;ll learn how to choose the right product\, create it quickly and strategies to get it in front of the right audience.<br />\n<br />\nHere is what you will learn:\n<ul>\n	<li>Why digital products are a powerful (and scalable) income stream for any small business</li>\n	<li>The most popular types of digital products you can create today</li>\n	<li>How to come up with winning product ideas your audience actually wants</li>\n	<li>Simple tools to create eBooks\, templates\, planners\, and courses without overwhelm</li>\n	<li>Strategies to sell your product - without being salesy</li>\n</ul>\n<br />\n<a href="https://www.score.org/event/turn-your-expertise-income-how-create-e-books-templates-and-courses-sell" target="_blank">Register Online</a>
LOCATION:Online Workshop
UID:e.1202.171565
SEQUENCE:3
DTSTAMP:20260422T033016Z
URL:https://business.cartersvillechamber.com/events/details/how-to-create-e-books-templates-and-courses-that-sell-online-workshop-171565
END:VEVENT

END:VCALENDAR
