BEGIN:VCALENDAR
VERSION:2.0
PRODID:-//ChamberMaster//Event Calendar 2.0//EN
METHOD:PUBLISH
X-PUBLISHED-TTL:P3D
REFRESH-INTERVAL:P3D
CALSCALE:GREGORIAN
BEGIN:VEVENT
DTSTART:20260217T223000Z
DTEND:20260218T003000Z
X-MICROSOFT-CDO-ALLDAYEVENT:FALSE
SUMMARY:How to Cross Stitch Hearts
DESCRIPTION:Join our cross stitching session and learn how to cross stitch hearts for the season of love!\n\nRegistration required. 10 people only.
X-ALT-DESC;FMTTYPE=text/html:Join our cross stitching session and learn how to cross stitch hearts for the season of love!<br />\nRegistration required. 10 people only.&nbsp\;
LOCATION:Cartersville Public Library
UID:e.1202.173433
SEQUENCE:3
DTSTAMP:20260421T185605Z
URL:https://business.cartersvillechamber.com/events/details/how-to-cross-stitch-hearts-173433
END:VEVENT

END:VCALENDAR
