BEGIN:VCALENDAR
VERSION:2.0
PRODID:-//ChamberMaster//Event Calendar 2.0//EN
METHOD:PUBLISH
X-PUBLISHED-TTL:P3D
REFRESH-INTERVAL:P3D
CALSCALE:GREGORIAN
BEGIN:VEVENT
DTSTART:20240621T140000Z
DTEND:20240621T153000Z
X-MICROSOFT-CDO-ALLDAYEVENT:FALSE
SUMMARY:"How to Increase Profits and Sales" Workshop
DESCRIPTION:"How to Increase Profits and Sales" Workshop\n\n\n\nFriday\, June 21\, 2024\, 10 AM - 11:30 AM\n\nFee: Free\n\n\n\nRegister Online\n\n\n\nHow your products or services compare with others in your industry can make a huge difference in how profitable you are. The typical approach is to "out feature" your competition\, however\, there is an alternate targeted marketing strategy known as Blue Ocean fishing. You will learn how to separate yourself from your competition and reduce your costs in the process. In the end\, your offerings are made more desirable and more profitable.\n\n\n\nIn this workshop\, you'll create your own Blue Ocean strategy canvas comparing yourself against your competition and exploiting the opportunities you uncover.\n\n\n\nAttendees will learn:\n\n	The difference between a red ocean and a blue ocean\n	How to quickly determine where your competitors are not\n	How to add value to your offerings while reducing cost\n	How to create a strategy map\n	Why getting rid of unnecessary features is a good thing\n	How to find and exploit needs your customers have but haven't asked for
X-ALT-DESC;FMTTYPE=text/html:<strong>&quot\;How to Increase Profits and Sales&quot\; Workshop<br />\n<br />\nFriday\, June 21\, 2024\, 10 AM - 11:30 AM<br />\nFee: Free</strong><br />\n<br />\n<a href="https://www.score.org/northmetroatlanta/event/how-increase-profits-and-sales-3" target="_blank">Register Online</a><br />\n<br />\nHow your products or services compare with others in your industry can make a huge difference in how profitable you are. The typical approach is to &ldquo\;out feature&rdquo\; your competition\, however\, there is an alternate targeted marketing strategy known as Blue Ocean fishing. You will learn how to separate yourself from your competition and reduce your costs in the process. In the end\, your offerings are made more desirable and more profitable.<br />\n<br />\nIn this workshop\, you&#39\;ll create your own Blue Ocean strategy canvas comparing yourself against your competition and exploiting the opportunities you uncover.<br />\n<br />\nAttendees will learn:\n<ul>\n	<li>The difference between a red ocean and a blue ocean</li>\n	<li>How to quickly determine where your competitors are not</li>\n	<li>How to add value to your offerings while reducing cost</li>\n	<li>How to create a strategy map</li>\n	<li>Why getting rid of unnecessary features is a good thing</li>\n	<li>How to find and exploit needs your customers have but haven&rsquo\;t asked for</li>\n</ul>\n
LOCATION:Online Workshop
UID:e.1202.164805
SEQUENCE:3
DTSTAMP:20260422T231016Z
URL:https://business.cartersvillechamber.com/events/details/how-to-increase-profits-and-sales-workshop-164805
END:VEVENT

END:VCALENDAR
