BEGIN:VCALENDAR
VERSION:2.0
PRODID:-//ChamberMaster//Event Calendar 2.0//EN
METHOD:PUBLISH
X-PUBLISHED-TTL:P3D
REFRESH-INTERVAL:P3D
CALSCALE:GREGORIAN
BEGIN:VEVENT
DTSTART:20250410T170000Z
DTEND:20250410T180000Z
X-MICROSOFT-CDO-ALLDAYEVENT:FALSE
SUMMARY:"How to Use Google Workspace in Your Business" Online Workshop
DESCRIPTION:"How to Use Google Workspace in Your Business" Online Workshop\n\n\n\nThursday\, April 10\, 2025\n\n1:00 PM - 2:00 PM\n\nFee: Free\n\n\n\nIn this webinar\, we will explore how you can use all the Google Workspace software to boost your small business's efficiency\, increase productivity\, and enhance collaboration.\n\n\n\nOur expert presenter will provide tips and best practices for making the most of your Google Workspace. After this\, you'll be ready to take your small business to the next level.\n\n\n\nIn this webinar\, you will learn:\n\n	Knowledge about how to get started with Google Workspace\n	How to leverage Google Workspace to streamline operations\n	Best practices for using Google Workspace effectively in your small business\n	How to find software for needs that Google doesn't meet\n\n\n\nRegister Online
X-ALT-DESC;FMTTYPE=text/html:<strong>&quot\;How to Use Google Workspace in Your Business</strong><strong>&quot\; Online Workshop<br />\n<br />\nThursday\, April 10\, 2025<br />\n1:00 PM - 2:00 PM<br />\nFee: Free</strong><br />\n<br />\nIn this webinar\, we will explore how you can use all the Google Workspace software to boost your small business&#39\;s efficiency\, increase productivity\, and enhance collaboration.<br />\n<br />\nOur expert presenter will provide tips and best practices for making the most of your Google Workspace. After this\, you&rsquo\;ll be ready to take your small business to the next level.<br />\n<br />\nIn this webinar\, you will learn:\n<ul>\n	<li>Knowledge about how to get started with Google Workspace</li>\n	<li>How to leverage Google Workspace to streamline operations</li>\n	<li>Best practices for using Google Workspace effectively in your small business</li>\n	<li>How to find software for needs that Google doesn&rsquo\;t meet</li>\n</ul>\n<br />\n<strong><a href="https://www.score.org/event/how-google-workspace-can-boost-your-small-business-efficiency" target="_blank">Register Online</a></strong>
LOCATION:Online Workshop
UID:e.1202.170140
SEQUENCE:3
DTSTAMP:20260422T092010Z
URL:https://business.cartersvillechamber.com/events/details/how-to-use-google-workspace-in-your-business-online-workshop-170140
END:VEVENT

END:VCALENDAR
