BEGIN:VCALENDAR
VERSION:2.0
PRODID:-//ChamberMaster//Event Calendar 2.0//EN
METHOD:PUBLISH
X-PUBLISHED-TTL:P3D
REFRESH-INTERVAL:P3D
CALSCALE:GREGORIAN
BEGIN:VEVENT
DTSTART:20241030T220000Z
DTEND:20241031T000000Z
X-MICROSOFT-CDO-ALLDAYEVENT:FALSE
SUMMARY:How to Write a Dynamic Business Plan Seminar
DESCRIPTION:How to Write a Dynamic Business Plan Seminar\n\n\n\nWednesday\, October 30\, 2024\, 6 PM - 8 PM\n\nCartersville-Bartow Chamber\n\n122 W. Main Street\, Cartersville\, GA 30120\n\n\n\nRegister Here\n\n\n\nThis is part two of a two-part workshop series--see part one here.\n\n\n\nThe City of Carterville Entrepreneurship Support is working with The Small Business Development Center- Rome office to host a two-part workshop series for first-generation business owners in the community.\n\n\n\nBusiness plans will equip you with the knowledge and skills that set the foundation for long-term success.\n\n\n\nCraft a roadmap for your entrepreneurial success with this intensive one-hour live webinar focused on guiding you through the essential elements of creating a comprehensive business plan. Led by experienced business professionals\, this condensed yet impactful webinar is designed to provide aspiring entrepreneurs and small business owners at any stage with the knowledge and tools needed to develop a strategic blueprint for their ventures. Key concepts include: format and sections of a business plan\, financial information to include in your plan\, start-up expenses and sources of capital.
X-ALT-DESC;FMTTYPE=text/html:<strong>How to Write a Dynamic Business Plan Seminar</strong><br />\n<br />\nWednesday\, October 30\, 2024\, 6 PM - 8 PM<br />\nCartersville-Bartow Chamber<br />\n122 W. Main Street\, Cartersville\, GA 30120<br />\n<br />\n<a href="https://georgiasbdc.org/training-program/0014-079-rom-how-to-write-a-dynamic-business-plan/" target="_blank">Register Here</a><br />\n<br />\n<em>This is part two of a two-part workshop series--<a href="https://www.cartersvillechamber.com/events/details/starting-a-business-seminar-167199" target="_blank">see part one here</a>.</em><br />\n<br />\nThe City of Carterville Entrepreneurship Support is working with The Small Business Development Center- Rome office to host a two-part workshop series for first-generation business owners in the community.<br />\n<br />\nBusiness plans will equip you with the knowledge and skills that set the foundation for long-term success.<br />\n<br />\nCraft a roadmap for your entrepreneurial success with this intensive one-hour live webinar focused on guiding you through the essential elements of creating a comprehensive business plan. Led by experienced business professionals\, this condensed yet impactful webinar is designed to provide aspiring entrepreneurs and small business owners at any stage with the knowledge and tools needed to develop a strategic blueprint for their ventures. Key concepts include: format and sections of a business plan\, financial information to include in your plan\, start-up expenses and sources of capital.
LOCATION:Cartersville-Bartow Chamber 122 W. Main Street Cartersville\, GA 30120
UID:e.1202.167200
SEQUENCE:3
DTSTAMP:20260422T171945Z
URL:https://business.cartersvillechamber.com/events/details/how-to-write-a-dynamic-business-plan-seminar-167200
END:VEVENT

END:VCALENDAR
