BEGIN:VCALENDAR
VERSION:2.0
PRODID:-//ChamberMaster//Event Calendar 2.0//EN
METHOD:PUBLISH
X-PUBLISHED-TTL:P3D
REFRESH-INTERVAL:P3D
CALSCALE:GREGORIAN
BEGIN:VEVENT
DTSTART:20250509T140000Z
DTEND:20250509T160000Z
X-MICROSOFT-CDO-ALLDAYEVENT:FALSE
SUMMARY:"HR Essentials for a Small Business" Workshop
DESCRIPTION:"HR Essentials for a Small Business" Workshop\n\n\n\nFriday\, May 9\, 2025\, 10 AM - 12 PM\n\nFee: Free\n\n\n\nUnderstanding and complying with basic HR rules and regulations is essential for any business to avoid legal issues and ensure a smooth operation.\n\n\n\nAt the conclusion of this Live Online Workshop\, you will be equipped to perform critical HR functions consistently and successfully. You will receive instruction about how to recruit\, hire\, classify\, and compensate quality employees and contractors.\n\n\n\nTopics to be covered include:\n\n	Recruitment - when/how to hire qualified employees and/or engage 1099 contractors\n	Payroll - systems and timing for small biz owners\n	Employee Classification - complying with government regulations\n	Employee Benefits - when to implement\, how to afford\n	Policies/Guidelines - when do you need a handbook\n	Compliance - general ideas on what to keep in mind regarding business operations and/or industry specific needs\n\n\n\nRegister Online
X-ALT-DESC;FMTTYPE=text/html:<strong>&quot\;HR Essentials for a Small Business&quot\; Workshop<br />\n<br />\nFriday\, May 9\, 2025\, 10 AM - 12 PM<br />\nFee: Free</strong><br />\n<br />\nUnderstanding and complying with basic HR rules and regulations is essential for any business to avoid legal issues and ensure a smooth operation.<br />\n<br />\nAt the conclusion of this Live Online Workshop\, you will be equipped to perform critical HR functions consistently and successfully. You will receive instruction about how to recruit\, hire\, classify\, and compensate quality employees and contractors.<br />\n<br />\nTopics to be covered include:\n<ul>\n	<li>Recruitment - when/how to hire qualified employees and/or engage 1099 contractors</li>\n	<li>Payroll - systems and timing for small biz owners</li>\n	<li>Employee Classification - complying with government regulations</li>\n	<li>Employee Benefits - when to implement\, how to afford</li>\n	<li>Policies/Guidelines - when do you need a handbook</li>\n	<li>Compliance - general ideas on what to keep in mind regarding business operations and/or industry specific needs</li>\n</ul>\n<br />\n<a href="https://www.score.org/northmetroatlanta/event/hr-essentials-a-small-business-4" target="_blank"><strong>Register Online</strong></a>
LOCATION:Online Workshop
UID:e.1202.170690
SEQUENCE:3
DTSTAMP:20260422T080310Z
URL:https://business.cartersvillechamber.com/events/details/hr-essentials-for-a-small-business-workshop-170690
END:VEVENT

END:VCALENDAR
