BEGIN:VCALENDAR
VERSION:2.0
PRODID:-//ChamberMaster//Event Calendar 2.0//EN
METHOD:PUBLISH
X-PUBLISHED-TTL:P3D
REFRESH-INTERVAL:P3D
CALSCALE:GREGORIAN
BEGIN:VEVENT
DTSTART:20260530T140000Z
DTEND:20260530T190000Z
X-MICROSOFT-CDO-ALLDAYEVENT:FALSE
SUMMARY:Inaugural Carnival by the Creek
DESCRIPTION:Inaugural Carnival by the Creek\n\n\n\nSaturday\, May 30\, 2026\, 10 AM - 3 PM\n\n111 Covered Bridge Road\, Euharlee\, GA 30120\n\n\n\nJoin us for a day of family fun featuring:\n\n	Games & interactive activities\n	Crafts\n	Community booths\n	Food\n	Entertainment\n	Kiddie Parade at 12:30 PM\n\nAt 12:30 PM\, children are invited to participate in our Kiddie Parade   a special nod to the small-town carnivals and community celebrations Euharlee hosted more than 50 years ago. We're honoring that history while creating a new tradition for today's families.\n\n\n\nHosted by the Euharlee Downtown Development Authority\, this spring celebration is designed to bring families together for a festive day along beautiful Euharlee Creek.\n\n\n\nOsborne Park\n\nSaturday\, May 30\n\n11AM 3PM\n\nFREE Admission\n\n\n\nInterested in participating as a vendor\, sponsor\, or activity host?\n\nEmail dda@euharlee.com or check out our website: www.euharlee.com/community-events.
X-ALT-DESC;FMTTYPE=text/html:Inaugural Carnival by the Creek<br />\n<br />\nSaturday\, May 30\, 2026\, 10 AM - 3 PM<br />\n111 Covered Bridge Road\, Euharlee\, GA 30120<br />\n<br />\nJoin us for a day of family fun featuring:\n<ul>\n	<li>Games &amp\; interactive activities</li>\n	<li>Crafts</li>\n	<li>Community booths</li>\n	<li>Food</li>\n	<li>Entertainment</li>\n	<li>Kiddie Parade at 12:30 PM</li>\n</ul>\nAt 12:30 PM\, children are invited to participate in our Kiddie Parade &mdash\; a special nod to the small-town carnivals and community celebrations Euharlee hosted more than 50 years ago. We&rsquo\;re honoring that history while creating a new tradition for today&rsquo\;s families.<br />\n<br />\nHosted by the Euharlee Downtown Development Authority\, this spring celebration is designed to bring families together for a festive day along beautiful Euharlee Creek.<br />\n<br />\nOsborne Park<br />\nSaturday\, May 30<br />\n11AM&ndash\;3PM<br />\nFREE Admission<br />\n<br />\nInterested in participating as a vendor\, sponsor\, or activity host?<br />\nEmail <a href="mailto:dda@euharlee.com">dda@euharlee.com</a> or check out our website: <a href="http://www.euharlee.com/community-events" target="_blank">www.euharlee.com/community-events</a>.
LOCATION:111 Covered Bridge Road\, Euharlee\, GA 30120
UID:e.1202.173667
SEQUENCE:3
DTSTAMP:20260421T174202Z
URL:https://business.cartersvillechamber.com/events/details/inaugural-carnival-by-the-creek-173667
END:VEVENT

END:VCALENDAR
