BEGIN:VCALENDAR
VERSION:2.0
PRODID:-//ChamberMaster//Event Calendar 2.0//EN
METHOD:PUBLISH
X-PUBLISHED-TTL:P3D
REFRESH-INTERVAL:P3D
CALSCALE:GREGORIAN
BEGIN:VEVENT
DTSTART:20250422T120000Z
DTEND:20250422T150000Z
X-MICROSOFT-CDO-ALLDAYEVENT:FALSE
SUMMARY:Inclusive Leadership
DESCRIPTION:Workshop #2: Inclusive Leadership\n\n	Distinguish between diversity and inclusion and appreciate the importance of both to developing a competitive advantage\n	Recognize the presence of unconscious biases and identify steps to challenge them\n	Learn the characteristics of inclusive leadership\n	Appreciate the skills required to facilitate an inclusive workplace
X-ALT-DESC;FMTTYPE=text/html:Workshop #2: Inclusive Leadership\n<ul>\n	<li>Distinguish between diversity and inclusion and appreciate the importance of both to developing a competitive advantage</li>\n	<li>Recognize the presence of unconscious biases and identify steps to challenge them</li>\n	<li>Learn the characteristics of inclusive leadership</li>\n	<li>Appreciate the skills required to facilitate an inclusive workplace</li>\n</ul>\n
LOCATION:GHC Cartersville Campus
UID:e.1202.167618
SEQUENCE:3
DTSTAMP:20260422T092011Z
URL:https://business.cartersvillechamber.com/events/details/inclusive-leadership-04-22-2025-167618
END:VEVENT

END:VCALENDAR
