BEGIN:VCALENDAR
VERSION:2.0
PRODID:-//ChamberMaster//Event Calendar 2.0//EN
METHOD:PUBLISH
X-PUBLISHED-TTL:P3D
REFRESH-INTERVAL:P3D
CALSCALE:GREGORIAN
BEGIN:VEVENT
DTSTART:20240718T130000Z
DTEND:20240718T140000Z
X-MICROSOFT-CDO-ALLDAYEVENT:FALSE
SUMMARY:"Increase Your Sales with Google Tools" Online Workshop
DESCRIPTION:Increase Your Sales with Google Tools\n\n\n\nThursday\, July 18\, 2024\, 9 AM - 10 AM\n\nOnline Workshop\n\nFee: Free\n\n\n\nLearn how to promote your products online with Google tools.\n\n\n\nYou will receive instruction in how your local brick-and-mortar business can list products on a Google Business Profile. Using the Google Merchant Center\, a no-cost tool\, allows both e-commerce and brick-and-mortar businesses to create free Product Listings on Google.\n\n\n\nIn this session you will be shown how to:\n\n\n\n- Highlight products on your Google Business Profile\n\n\n\n- Use Pointy to promote in-store inventory with a Point of Sale (POS) system\n\n\n\n- Use Google Merchant Center to showcase in-store and online product inventory\n\n\n\nRegister Online
X-ALT-DESC;FMTTYPE=text/html:<strong>Increase Your Sales with Google Tools</strong><br />\n<br />\n<strong>Thursday\, July 18\, 2024\, 9 AM - 10 AM<br />\nOnline Workshop<br />\nFee: Free</strong><br />\n<br />\nLearn how to promote your products online with Google tools.<br />\n<br />\nYou will receive instruction in how your local brick-and-mortar business can list products on a Google Business Profile. Using the Google Merchant Center\, a no-cost tool\, allows both e-commerce and brick-and-mortar businesses to create free Product Listings on Google.<br />\n<br />\nIn this session you will be shown how to:<br />\n<br />\n- Highlight products on your Google Business Profile<br />\n<br />\n- Use Pointy to promote in-store inventory with a Point of Sale (POS) system<br />\n<br />\n- Use Google Merchant Center to showcase in-store and online product inventory<br />\n<br />\n<a href="https://www.score.org/northmetroatlanta/event/increase-your-sales-google-tools-2" target="_blank">Register Online</a>
LOCATION:Online Workshop
UID:e.1202.165921
SEQUENCE:3
DTSTAMP:20260422T214059Z
URL:https://business.cartersvillechamber.com/events/details/increase-your-sales-with-google-tools-online-workshop-165921
END:VEVENT

END:VCALENDAR
