BEGIN:VCALENDAR
VERSION:2.0
PRODID:-//ChamberMaster//Event Calendar 2.0//EN
METHOD:PUBLISH
X-PUBLISHED-TTL:P3D
REFRESH-INTERVAL:P3D
CALSCALE:GREGORIAN
BEGIN:VEVENT
DTSTART:20260712T160000Z
DTEND:20260712T230000Z
X-MICROSOFT-CDO-ALLDAYEVENT:FALSE
SUMMARY:Interculturalfest 10 Colombia Independence Day Festival
DESCRIPTION:Feel the rhythm. Taste the tradition. Celebrate the pride. Intercultural Fest Colombia Independence Day brings the spirit of Colombia to life in a powerful celebration of culture\, music\, and community. From colorful dances to authentic cuisine\, this event invites everyone to experience the joy\, resilience\, and beauty of Colombian heritage. This is not just a celebration   it's a cultural connection.\n\n\n\nFREE Community Event\n\nMusic | Food | Culture | Family Fun\n\n\n\nBring your friends. Bring your family. Bring your energy.\n\n\n\nFollow us and be part of the movement: Intercultural Fest
X-ALT-DESC;FMTTYPE=text/html:Feel the rhythm. Taste the tradition. Celebrate the pride. Intercultural Fest Colombia Independence Day brings the spirit of Colombia to life in a powerful celebration of culture\, music\, and community. From colorful dances to authentic cuisine\, this event invites everyone to experience the joy\, resilience\, and beauty of Colombian heritage. This is not just a celebration &mdash\; it&rsquo\;s a cultural connection.<br />\n<br />\nFREE Community Event<br />\nMusic | Food | Culture | Family Fun<br />\n<br />\nBring your friends. Bring your family. Bring your energy.<br />\n<br />\nFollow us and be part of the movement: Intercultural Fest
LOCATION:Downtown Cartersville
UID:e.1202.174053
SEQUENCE:3
DTSTAMP:20260421T183901Z
URL:https://business.cartersvillechamber.com/events/details/interculturalfest-10-colombia-independence-day-festival-174053
END:VEVENT

END:VCALENDAR
