BEGIN:VCALENDAR
VERSION:2.0
PRODID:-//ChamberMaster//Event Calendar 2.0//EN
METHOD:PUBLISH
X-PUBLISHED-TTL:P3D
REFRESH-INTERVAL:P3D
CALSCALE:GREGORIAN
BEGIN:VEVENT
DTSTART:20260503T160000Z
DTEND:20260503T230000Z
X-MICROSOFT-CDO-ALLDAYEVENT:FALSE
SUMMARY:Interculturalfest International Spring Festival
DESCRIPTION:INTERCULTURAL FEST INTERNATIONAL SPRING FESTIVAL (10TH ANNIVERSARY)\n\n\n\nDescription: The Intercultural Fest International Spring Festival celebrates its 10th Anniversary as a signature multicultural community event in Downtown Cartersville. This free\, family-friendly festival brings together diverse cultures through live performances\, international cuisine\, music\, folklore\, and interactive activities for all ages. The event promotes cultural understanding\, community engagement\, and local economic activation by supporting small businesses\, artists\, and community organizations. Attendees will also have access to valuable community resources\, educational information\, and wellness initiatives.\n\n\n\nProduced by Intercultural Fest LLC in collaboration with Intercultural Fest Foundation\, Inc. (501(c)(3))\, this event reflects a decade of commitment to unity\, diversity\, and leadership development in Northwest Georgia.
X-ALT-DESC;FMTTYPE=text/html:INTERCULTURAL FEST INTERNATIONAL SPRING FESTIVAL (10TH ANNIVERSARY)<br />\n<br />\nDescription: The Intercultural Fest International Spring Festival celebrates its 10th Anniversary as a signature multicultural community event in Downtown Cartersville. This free\, family-friendly festival brings together diverse cultures through live performances\, international cuisine\, music\, folklore\, and interactive activities for all ages. The event promotes cultural understanding\, community engagement\, and local economic activation by supporting small businesses\, artists\, and community organizations. Attendees will also have access to valuable community resources\, educational information\, and wellness initiatives.<br />\n<br />\nProduced by Intercultural Fest LLC in collaboration with Intercultural Fest Foundation\, Inc. (501(c)(3))\, this event reflects a decade of commitment to unity\, diversity\, and leadership development in Northwest Georgia.
LOCATION:Downtown Cartersville
UID:e.1202.174052
SEQUENCE:3
DTSTAMP:20260421T164052Z
URL:https://business.cartersvillechamber.com/events/details/interculturalfest-international-spring-festival-05-03-2026-174052
END:VEVENT

END:VCALENDAR
