BEGIN:VCALENDAR
VERSION:2.0
PRODID:-//ChamberMaster//Event Calendar 2.0//EN
METHOD:PUBLISH
X-PUBLISHED-TTL:P3D
REFRESH-INTERVAL:P3D
CALSCALE:GREGORIAN
BEGIN:VEVENT
DTSTART:20251011T140000Z
DTEND:20251011T160000Z
X-MICROSOFT-CDO-ALLDAYEVENT:FALSE
SUMMARY:Intro to Tree I.D. Workshop
DESCRIPTION:Join Paul Pugliese\, Bartow County Ag. and Natural Resource Agent\, as he teaches the basics of tree identification. The first hour is indoors covering the basics\, followed by the second hour of a native tree walk around the lakeside trail. Children are welcome and please dress appropriately for weather.
X-ALT-DESC;FMTTYPE=text/html:Join Paul Pugliese\, Bartow County Ag. and Natural Resource Agent\, as he teaches the basics of tree identification. The first hour is indoors covering the basics\, followed by the second hour of a native tree walk around the lakeside trail. Children are welcome and please dress appropriately for weather.
LOCATION:Pettit Environmental Preserve 29 Vineyard Rd. SE Dallas\, GA 30132
UID:e.1202.171840
SEQUENCE:3
DTSTAMP:20260422T003448Z
URL:https://business.cartersvillechamber.com/events/details/intro-to-tree-i-d-workshop-171840
END:VEVENT

END:VCALENDAR
