BEGIN:VCALENDAR
VERSION:2.0
PRODID:-//ChamberMaster//Event Calendar 2.0//EN
METHOD:PUBLISH
X-PUBLISHED-TTL:P3D
REFRESH-INTERVAL:P3D
CALSCALE:GREGORIAN
BEGIN:VEVENT
DTSTART:20241214T130000Z
DTEND:20241214T170000Z
X-MICROSOFT-CDO-ALLDAYEVENT:FALSE
SUMMARY:Jingle Jog 5K\, 10K & Fun Run
DESCRIPTION:Join us for our annual 5K\, 10K & Fun Run/ Walk with Dasher Dash for children under the age of 5. The 5K & 10K are both USATF certified. Word on the street is that Santa will be there\, and you don't want to miss him!! He's making a list of registrants\, checking it twice\, and it's probably naughty to miss this race. So BE NICE! Come out with the whole family and join this fast-growing holiday tradition. Run it\, walk it\, or crawl it. Just be a part of it. Dress up in your most creative costume!! Pets are welcome (on a leash\, please). Yep\, even Fifi and Bowzer are invited\, so dress up those 4-footed furries and BRING...YOUR...FRIENDS!
X-ALT-DESC;FMTTYPE=text/html:Join us for our annual 5K\, 10K &amp\; Fun Run/ Walk with Dasher Dash for children under the age of 5. The 5K &amp\; 10K are both USATF certified. Word on the street is that Santa will be there\, and you don&#39\;t want to miss him!! He&#39\;s making a list of registrants\, checking it twice\, and it&#39\;s probably naughty to miss this race. So BE NICE! Come out with the whole family and join this fast-growing holiday tradition. Run it\, walk it\, or crawl it. Just be a part of it. Dress up in your most creative costume!! Pets are welcome (on a leash\, please). Yep\, even Fifi and Bowzer are invited\, so dress up those 4-footed furries and BRING...YOUR...FRIENDS!
LOCATION:Sam Smith Park 152 Milner Road Cartersville
UID:e.1202.167346
SEQUENCE:3
DTSTAMP:20260422T145538Z
URL:https://business.cartersvillechamber.com/events/details/jingle-jog-5k-10k-fun-run-167346
END:VEVENT

END:VCALENDAR
