BEGIN:VCALENDAR
VERSION:2.0
PRODID:-//ChamberMaster//Event Calendar 2.0//EN
METHOD:PUBLISH
X-PUBLISHED-TTL:P3D
REFRESH-INTERVAL:P3D
CALSCALE:GREGORIAN
BEGIN:VEVENT
DTSTART;VALUE=DATE:20251213
DTEND;VALUE=DATE:20251214
TRANSP:TRANSPARENT
X-MICROSOFT-CDO-ALLDAYEVENT:TRUE
SUMMARY:Jingle & Mingle Shopping Event
DESCRIPTION:Join the shops downtown for our annual Jingle & Mingle shopping event! Enjoy sales\, giveaways\, treats and more!
X-ALT-DESC;FMTTYPE=text/html:Join the shops downtown for our annual Jingle &amp\; Mingle shopping event! Enjoy sales\, giveaways\, treats and more!
LOCATION:Downtown Cartersville
UID:e.1202.172146
SEQUENCE:3
DTSTAMP:20260421T214612Z
URL:https://business.cartersvillechamber.com/events/details/jingle-mingle-shopping-event-172146
END:VEVENT

END:VCALENDAR
