BEGIN:VCALENDAR
VERSION:2.0
PRODID:-//ChamberMaster//Event Calendar 2.0//EN
METHOD:PUBLISH
X-PUBLISHED-TTL:P3D
REFRESH-INTERVAL:P3D
CALSCALE:GREGORIAN
BEGIN:VEVENT
DTSTART:20260425T223000Z
DTEND:20260426T013000Z
X-MICROSOFT-CDO-ALLDAYEVENT:FALSE
SUMMARY:Joe Hall Live
DESCRIPTION:Live Music with Joe Hall
X-ALT-DESC;FMTTYPE=text/html:Live Music with Joe Hall
LOCATION:Olive Tree & Vine 26 W Main St Cartersville
UID:e.1202.174061
SEQUENCE:3
DTSTAMP:20260423T212004Z
URL:https://business.cartersvillechamber.com/events/details/joe-hall-live-174061
END:VEVENT

END:VCALENDAR
