BEGIN:VCALENDAR
VERSION:2.0
PRODID:-//ChamberMaster//Event Calendar 2.0//EN
METHOD:PUBLISH
X-PUBLISHED-TTL:P3D
REFRESH-INTERVAL:P3D
CALSCALE:GREGORIAN
BEGIN:VEVENT
DTSTART:20251010T123000Z
DTEND:20251010T133000Z
X-MICROSOFT-CDO-ALLDAYEVENT:FALSE
SUMMARY:Joint Ribbon Cutting
DESCRIPTION:The Cartersville-Bartow County Chamber of Commerce is thrilled to celebrate a special Joint Ribbon Cutting Ceremony\, bringing together several incredible businesses for one unforgettable event! This collaborative celebration highlighted the spirit of community\, growth\, and shared success as each business steps into an exciting new chapter.\n\n\n\nProudly Celebrating The Following Organizations: \n\n	CFO & Associates\n	Affordable Best Cleaning Services\n	911 Foundation of Bartow County\n	Celebrating You
X-ALT-DESC;FMTTYPE=text/html:The Cartersville-Bartow County Chamber of Commerce is thrilled to celebrate a special <strong data-end="73" data-start="40">Joint Ribbon Cutting Ceremony</strong>\, bringing together several incredible businesses for one unforgettable event! This collaborative celebration highlighted the spirit of community\, growth\, and shared success as each business steps into an exciting new chapter.<br />\n<br />\nProudly Celebrating The Following Organizations:&nbsp\;\n<ul>\n	<li><a href="https://askcfo1.com/" target="_blank">CFO &amp\; Associates</a></li>\n	<li><a href="https://abclean.org/" target="_blank">Affordable Best Cleaning Services</a></li>\n	<li>911 Foundation of Bartow County</li>\n	<li>Celebrating You</li>\n</ul>\n
LOCATION:Anheuser-Bush Room 122 W Main Street Cartersville\, GA 30120
UID:e.1202.168263
SEQUENCE:3
DTSTAMP:20260422T003524Z
URL:https://business.cartersvillechamber.com/events/details/joint-ribbon-cutting-168263
END:VEVENT

END:VCALENDAR
