BEGIN:VCALENDAR
VERSION:2.0
PRODID:-//ChamberMaster//Event Calendar 2.0//EN
METHOD:PUBLISH
X-PUBLISHED-TTL:P3D
REFRESH-INTERVAL:P3D
CALSCALE:GREGORIAN
BEGIN:VEVENT
DTSTART;VALUE=DATE:20251010
DTEND;VALUE=DATE:20251011
TRANSP:TRANSPARENT
X-MICROSOFT-CDO-ALLDAYEVENT:TRUE
SUMMARY:Journey to Space (Through 4/19/26)
DESCRIPTION:We've all imagined what it's like to live and work in space\, but only a select few have done it. Opening on October 10\, those who have lived in space will share their experiences with visitors in our newest traveling exhibition\, Journey to Space. Using hands-on and large-scale interactive exhibits and multimedia components\, Journey to Space gives visitors a glimpse at the extraordinary conditions of human space travel\, as well as the unique challenges and rewards of life on board the International Space Station.
X-ALT-DESC;FMTTYPE=text/html:We&rsquo\;ve all imagined what it&rsquo\;s like to live and work in space\, but only a select few have done it. Opening on October 10\, those who have lived in space will share their experiences with visitors in our newest traveling exhibition\, Journey to Space. Using hands-on and large-scale interactive exhibits and multimedia components\, Journey to Space gives visitors a glimpse at the extraordinary conditions of human space travel\, as well as the unique challenges and rewards of life on board the International Space Station.
LOCATION:Tellus Science Museum
UID:e.1202.171948
SEQUENCE:3
DTSTAMP:20260422T003811Z
URL:https://business.cartersvillechamber.com/events/details/journey-to-space-through-4-19-26-171948
END:VEVENT

END:VCALENDAR
