BEGIN:VCALENDAR
VERSION:2.0
PRODID:-//ChamberMaster//Event Calendar 2.0//EN
METHOD:PUBLISH
X-PUBLISHED-TTL:P3D
REFRESH-INTERVAL:P3D
CALSCALE:GREGORIAN
BEGIN:VEVENT
DTSTART:20250110T233000Z
DTEND:20250111T013000Z
X-MICROSOFT-CDO-ALLDAYEVENT:FALSE
SUMMARY:Junior Astronomy Workshop
DESCRIPTION:Introduce your young scientist to the wonders of astronomy in this popular workshop! Participants will tour the current night sky in the Bentley Planetarium\, receive and learn how to use a rotary star chart\, and observe the sky through small telescopes and our 20" telescope in the Observatory.
X-ALT-DESC;FMTTYPE=text/html:Introduce your young scientist to the wonders of astronomy in this popular workshop! Participants will tour the current night sky in the Bentley Planetarium\, receive and learn how to use a rotary star chart\, and observe the sky through small telescopes and our 20&quot\; telescope in the Observatory.
LOCATION:Tellus Science Museum
UID:e.1202.167565
SEQUENCE:3
DTSTAMP:20260422T130020Z
URL:https://business.cartersvillechamber.com/events/details/junior-astronomy-workshop-01-10-2025-167565
END:VEVENT

END:VCALENDAR
