BEGIN:VCALENDAR
VERSION:2.0
PRODID:-//ChamberMaster//Event Calendar 2.0//EN
METHOD:PUBLISH
X-PUBLISHED-TTL:P3D
REFRESH-INTERVAL:P3D
CALSCALE:GREGORIAN
BEGIN:VEVENT
DTSTART:20250228T233000Z
DTEND:20250301T023000Z
X-MICROSOFT-CDO-ALLDAYEVENT:FALSE
SUMMARY:KAMP! Live
DESCRIPTION:KAMP LIVE\n\nThis is your chance to experience the amazing talents of this diverse and incredibly talented group\n\nA little bit of Jazz\, a little bit of Motown\, a little bit of Hip-hop\, A LOT OF FUN!
X-ALT-DESC;FMTTYPE=text/html:KAMP LIVE<br />\nThis is your chance to experience the amazing talents of this diverse and incredibly talented group<br />\nA little bit of Jazz\, a little bit of Motown\, a little bit of Hip-hop\, A LOT OF FUN!<br />\n&nbsp\;
LOCATION:Olive Tree & Vine 26 W Main St Cartersville
UID:e.1202.168214
SEQUENCE:3
DTSTAMP:20260422T115233Z
URL:https://business.cartersvillechamber.com/events/details/kamp-live-168214
END:VEVENT

END:VCALENDAR
