BEGIN:VCALENDAR
VERSION:2.0
PRODID:-//ChamberMaster//Event Calendar 2.0//EN
METHOD:PUBLISH
X-PUBLISHED-TTL:P3D
REFRESH-INTERVAL:P3D
CALSCALE:GREGORIAN
BEGIN:VEVENT
DTSTART:20250718T223000Z
DTEND:20250719T023000Z
X-MICROSOFT-CDO-ALLDAYEVENT:FALSE
SUMMARY:Karaoke
DESCRIPTION:Karaoke!\n\nHosted by Chris Morrow \n\nYour favorite songs sung by your favorite local talent (YOU!)\n\nBring your best Car Karaoke and add an audience
X-ALT-DESC;FMTTYPE=text/html:Karaoke!<br />\nHosted by Chris Morrow&nbsp\;<br />\nYour favorite songs sung by your favorite local talent (YOU!)<br />\nBring your best Car Karaoke and add an audience<br />\n&nbsp\;
LOCATION:Olive Tree & Vine 26 W Main St Cartersville
UID:e.1202.171541
SEQUENCE:3
DTSTAMP:20260422T050237Z
URL:https://business.cartersvillechamber.com/events/details/karaoke-07-18-2025-171541
END:VEVENT

END:VCALENDAR
