BEGIN:VCALENDAR
VERSION:2.0
PRODID:-//ChamberMaster//Event Calendar 2.0//EN
METHOD:PUBLISH
X-PUBLISHED-TTL:P3D
REFRESH-INTERVAL:P3D
CALSCALE:GREGORIAN
BEGIN:VEVENT
DTSTART:20251011T130000Z
DTEND:20251011T160000Z
X-MICROSOFT-CDO-ALLDAYEVENT:FALSE
SUMMARY:Keep Emerson Beautiful Clean up Day
DESCRIPTION:In partnership with Keep Bartow Beautiful. Help keep our City Clean by stopping by City hall sign up\, and go out and collect litter to keep pollutants from our water\, and our environment clean.
X-ALT-DESC;FMTTYPE=text/html:In partnership with Keep Bartow Beautiful. Help keep our City Clean by stopping by City hall sign up\, and go out and collect litter to keep pollutants from our water\, and our environment clean.
LOCATION:Emerson City Hall 700 Hwy 293 Emerson Ga 30137
UID:e.1202.171814
SEQUENCE:3
DTSTAMP:20260422T003709Z
URL:https://business.cartersvillechamber.com/events/details/keep-emerson-beautiful-clean-up-day-171814
END:VEVENT

END:VCALENDAR
