BEGIN:VCALENDAR
VERSION:2.0
PRODID:-//ChamberMaster//Event Calendar 2.0//EN
METHOD:PUBLISH
X-PUBLISHED-TTL:P3D
REFRESH-INTERVAL:P3D
CALSCALE:GREGORIAN
BEGIN:VEVENT
DTSTART:20240720T150000Z
DTEND:20240720T170000Z
X-MICROSOFT-CDO-ALLDAYEVENT:FALSE
SUMMARY:Key Autism Services Open House
DESCRIPTION:Key Autism is Opening a Clinic for Child Services in the Cartersville Area on July 20\, 2024. Come out and enjoy Fun and Refreshments as you learn what our clinic has to offer!
X-ALT-DESC;FMTTYPE=text/html:<div>Key Autism is Opening a Clinic for Child Services in the Cartersville Area on July 20\, 2024. Come out and enjoy Fun and Refreshments as you learn what our clinic has to offer!</div>\n
LOCATION:801 West Ave Suite 100\, Cartersville\, Ga 30120
UID:e.1202.165991
SEQUENCE:3
DTSTAMP:20260422T214335Z
URL:https://business.cartersvillechamber.com/events/details/key-autism-services-open-house-165991
END:VEVENT

END:VCALENDAR
