BEGIN:VCALENDAR
VERSION:2.0
PRODID:-//ChamberMaster//Event Calendar 2.0//EN
METHOD:PUBLISH
X-PUBLISHED-TTL:P3D
REFRESH-INTERVAL:P3D
CALSCALE:GREGORIAN
BEGIN:VEVENT
DTSTART:20250819T160000Z
DTEND:20250819T170000Z
X-MICROSOFT-CDO-ALLDAYEVENT:FALSE
SUMMARY:"Kindle Direct Publishing" Workshop
DESCRIPTION:"Kindle Direct Publishing" Workshop\n\nSponsored by Amazon\n\n\n\nTuesday\, August 19\, 2025\, 12 PM - 1 PM\n\nFee: Free\n\n\n\nThis session will provide an overview of Amazon's Kindle Direct Publishing (KDP) program\, offering current and aspiring authors a practical introduction to the fundamentals of self-publishing. We will cover topics that include royalty structures\, the best seller's ranking\, distribution options\, formatting\, advertising\, etc. Additionally\, learn how you can also sell books in our store from your bookstore and/or personal collection. Finally\, we will also share information on the resources and programs Amazon has to help enable small business success.\n\n\n\nRegister Online
X-ALT-DESC;FMTTYPE=text/html:<strong>&quot\;Kindle Direct Publishing</strong><strong>&quot\; Workshop</strong><br />\n<em>Sponsored by Amazon</em><br />\n<br />\n<strong>Tuesday\, August 19\, 2025\, 12 PM - 1 PM<br />\nFee: Free</strong><br />\n<br />\nThis session will provide an overview of Amazon&#39\;s Kindle Direct Publishing (KDP) program\, offering current and aspiring authors a practical introduction to the fundamentals of self-publishing. We will cover topics that include royalty structures\, the best seller&rsquo\;s ranking\, distribution options\, formatting\, advertising\, etc. Additionally\, learn how you can also sell books in our store from your bookstore and/or personal collection. Finally\, we will also share information on the resources and programs Amazon has to help enable small business success.<br />\n<br />\n<a href="https://www.score.org/memphis/event/kindle-direct-publishing-8192025" target="_blank"><strong>Register Online</strong></a>
LOCATION:Online Workshop
UID:e.1202.171756
SEQUENCE:3
DTSTAMP:20260422T032552Z
URL:https://business.cartersvillechamber.com/events/details/kindle-direct-publishing-workshop-171756
END:VEVENT

END:VCALENDAR
