BEGIN:VCALENDAR
VERSION:2.0
PRODID:-//ChamberMaster//Event Calendar 2.0//EN
METHOD:PUBLISH
X-PUBLISHED-TTL:P3D
REFRESH-INTERVAL:P3D
CALSCALE:GREGORIAN
BEGIN:VEVENT
DTSTART:20250603T190000Z
DTEND:20250604T000000Z
X-MICROSOFT-CDO-ALLDAYEVENT:FALSE
SUMMARY:Kiwanis & Texas Roadhouse
DESCRIPTION:Get our Texas Roadhouse & Kiwanis Flyer off FB to help Kiwanis raise money to help the Kids of Bartow County. Bring the flyer - original or on your phone - present it with your eat in or take out meal - and Kiwanis will receive 10% of the proceeds. Kiwanis helps kids with scholarships\, past due lunch fees\, summer camps\, etc..
X-ALT-DESC;FMTTYPE=text/html:Get our Texas Roadhouse &amp\; Kiwanis Flyer off FB to help Kiwanis raise money to help the Kids of Bartow County. Bring the flyer - original or on your phone - present it with your eat in or take out meal - and Kiwanis will receive 10% of the proceeds. Kiwanis helps kids with scholarships\, past due lunch fees\, summer camps\, etc..
LOCATION:Texas Roadhouse On Main St\, Cartersville\, GA 30120
UID:e.1202.170945
SEQUENCE:3
DTSTAMP:20260422T061616Z
URL:https://business.cartersvillechamber.com/events/details/kiwanis-texas-roadhouse-170945
END:VEVENT

END:VCALENDAR
