BEGIN:VCALENDAR
VERSION:2.0
PRODID:-//ChamberMaster//Event Calendar 2.0//EN
METHOD:PUBLISH
X-PUBLISHED-TTL:P3D
REFRESH-INTERVAL:P3D
CALSCALE:GREGORIAN
BEGIN:VEVENT
DTSTART:20250924T140000Z
DTEND:20250924T150000Z
X-MICROSOFT-CDO-ALLDAYEVENT:FALSE
SUMMARY:Korean Language Class Level 1
DESCRIPTION:This course is suitable for beginners in Korean language or who have had very little contact with the Korean language. The program will teach basic Korean listening\, speaking\, writing and reading. Korean language and culture will be introduced throughout the course in a seamless manner.\n \n\nRegistration and $60 class fee required in advance.  Registration is in the library administration offices.  Cash and check payments only. Checks should be made out to class instructor (Ja Rim Jung).
X-ALT-DESC;FMTTYPE=text/html:<div>This course is suitable for beginners in Korean language or who have had very little contact with the Korean language. The program will teach basic Korean listening\, speaking\, writing and reading. Korean language and culture will be introduced throughout the course in a seamless manner.</div>\n&nbsp\;\n\n<div>Registration and $60 class fee required in advance. &nbsp\;Registration is in the library administration offices.&nbsp\; Cash and check payments only. Checks should be made out to class instructor (Ja Rim Jung).</div>\n
LOCATION:Cartersville Public Library Classroom
UID:e.1202.171788
SEQUENCE:3
DTSTAMP:20260422T021235Z
URL:https://business.cartersvillechamber.com/events/details/korean-language-class-level-1-09-24-2025-171788
END:VEVENT

END:VCALENDAR
