BEGIN:VCALENDAR
VERSION:2.0
PRODID:-//ChamberMaster//Event Calendar 2.0//EN
METHOD:PUBLISH
X-PUBLISHED-TTL:P3D
REFRESH-INTERVAL:P3D
CALSCALE:GREGORIAN
BEGIN:VEVENT
DTSTART:20251027T150000Z
DTEND:20251027T163000Z
X-MICROSOFT-CDO-ALLDAYEVENT:FALSE
SUMMARY:KSU Rare Book Presentation & Calligraphy Workshop
DESCRIPTION:Join us for the KSU Rare Book Presentation & Calligraphy Workshop hosted by the Bentley Rare Book Museum!\n\n\n\nMonday\, October 27\, 2025\n\n11:00 AM   12:30 PM\n\nCartersville Library\n\n\n\nFeaturing: Dr. Tamara Livingston   Executive Director of Museums\, Archives & Rare Books & Mr. Joe Head   Professional Calligraphy Expert Explore the beauty of rare books\, learn the timeless craft of calligraphy\, and gain insights into historical preservation and context. Whether you're a history buff\, an art lover\, or just curious this is a can't-miss experience! Register now: LibraryFriends@highlands.edu
X-ALT-DESC;FMTTYPE=text/html:Join us for the KSU Rare Book Presentation &amp\; Calligraphy Workshop hosted by the Bentley Rare Book Museum!<br />\n<br />\nMonday\, October 27\, 2025<br />\n11:00 AM &ndash\; 12:30 PM<br />\nCartersville Library<br />\n<br />\nFeaturing: Dr. Tamara Livingston &ndash\; Executive Director of Museums\, Archives &amp\; Rare Books &amp\; Mr. Joe Head &ndash\; Professional Calligraphy Expert Explore the beauty of rare books\, learn the timeless craft of calligraphy\, and gain insights into historical preservation and context. Whether you&#39\;re a history buff\, an art lover\, or just curious&mdash\;this is a can&#39\;t-miss experience! Register now: <a href="mailto:LibraryFriends@highlands.edu">LibraryFriends@highlands.edu</a>
LOCATION:Georgia Highlands College Cartersville Library
UID:e.1202.171983
SEQUENCE:3
DTSTAMP:20260422T003621Z
URL:https://business.cartersvillechamber.com/events/details/ksu-rare-book-presentation-calligraphy-workshop-171983
END:VEVENT

END:VCALENDAR
