BEGIN:VCALENDAR
VERSION:2.0
PRODID:-//ChamberMaster//Event Calendar 2.0//EN
METHOD:PUBLISH
X-PUBLISHED-TTL:P3D
REFRESH-INTERVAL:P3D
CALSCALE:GREGORIAN
BEGIN:VEVENT
DTSTART:20240820T120000Z
DTEND:20240820T150000Z
X-MICROSOFT-CDO-ALLDAYEVENT:FALSE
SUMMARY:Leading Others: Creating a Motivating Climate
DESCRIPTION:Workshop #6: Leading Others - Creating a Motivating Climate\n\n	Distinguish between performance gaps caused by skill deficiencies versus "will" deficiencies\n	Deliver meaningful feedback to redirect performance when performance outcomes do not meet expectations\n	Distinguish between expressing appreciation and giving praise \n	Deliver meaningful praise and recognition for performance progress and accomplishments\n	Understand the delegation process and how to determine what delegation level is appropriate for the situation
X-ALT-DESC;FMTTYPE=text/html:Workshop #6: Leading Others - Creating a Motivating Climate\n<ul>\n	<li>Distinguish between performance gaps caused by skill deficiencies versus &quot\;will&quot\; deficiencies</li>\n	<li>Deliver meaningful feedback to redirect performance when performance outcomes do not meet expectations</li>\n	<li>Distinguish between expressing appreciation and giving praise&nbsp\;</li>\n	<li>Deliver meaningful praise and recognition for performance progress and accomplishments</li>\n	<li>Understand the delegation process and how to determine what delegation level is appropriate for the situation</li>\n</ul>\n
LOCATION:GHC Cartersville Campus
UID:e.1202.166144
SEQUENCE:3
DTSTAMP:20260422T202212Z
URL:https://business.cartersvillechamber.com/events/details/leading-others-creating-a-motivating-climate-08-20-2024-166144
END:VEVENT

END:VCALENDAR
