BEGIN:VCALENDAR
VERSION:2.0
PRODID:-//ChamberMaster//Event Calendar 2.0//EN
METHOD:PUBLISH
X-PUBLISHED-TTL:P3D
REFRESH-INTERVAL:P3D
CALSCALE:GREGORIAN
BEGIN:VEVENT
DTSTART:20250107T130000Z
DTEND:20250107T160000Z
X-MICROSOFT-CDO-ALLDAYEVENT:FALSE
SUMMARY:Leading Others: Developing Skills
DESCRIPTION:Workshop #5 in the Front Line Leadership Program
X-ALT-DESC;FMTTYPE=text/html:Workshop #5 in the Front Line Leadership Program
LOCATION:GHC Cartersville Campus
UID:e.1202.167615
SEQUENCE:3
DTSTAMP:20260422T130041Z
URL:https://business.cartersvillechamber.com/events/details/leading-others-developing-skills-01-07-2025-167615
END:VEVENT

END:VCALENDAR
