BEGIN:VCALENDAR
VERSION:2.0
PRODID:-//ChamberMaster//Event Calendar 2.0//EN
METHOD:PUBLISH
X-PUBLISHED-TTL:P3D
REFRESH-INTERVAL:P3D
CALSCALE:GREGORIAN
BEGIN:VEVENT
DTSTART:20250304T180000Z
DTEND:20250304T190000Z
X-MICROSOFT-CDO-ALLDAYEVENT:FALSE
SUMMARY:"Learn the SEO Basics" Online Workshop
DESCRIPTION:Learn the SEO Basics and Boost Your Website Traffic\n\n\n\nTuesday\, March 4\, 2025\, 1 PM - 2 PM\n\nFee: Free\n\n\n\nAre you struggling to attract visitors to your website? It could be the perfect time to learn the SEO basics and elevate your search engine ranking. Search Engine Optimization (SEO) is a multi-faceted marketing strategy that might seem daunting\, but fear not.\n\n\n\nJoin our webinar\, where our expert presenter will guide you through the fundamentals of SEO marketing. You'll learn how to build an effective SEO marketing strategy\, discover quick and effective tactics for driving traffic to your website and monitor and maintain your site's performance.\n\n\n\nLearning objectives:\n\n	The three essential elements to rank high in search engines\n	Step-by-step instructions for picking high-potential keywords\n	How to seamlessly optimize on-page content for your target keywords\n	How to find and fix SEO issues dragging down your rankings\n	Simple techniques for getting reputable sites to link back to your website\n	How to monitor your site's search engine performance using free tools\n\n\n\nRegister Online
X-ALT-DESC;FMTTYPE=text/html:<strong>Learn the SEO Basics and Boost Your Website Traffic</strong><br />\n<br />\n<strong>Tuesday\, March 4\, 2025\, 1 PM - 2 PM<br />\nFee: Free</strong><br />\n<br />\nAre you struggling to attract visitors to your website? It could be the perfect time to learn the SEO basics and elevate your search engine ranking. Search Engine Optimization (SEO) is a multi-faceted marketing strategy that might seem daunting\, but fear not.<br />\n<br />\nJoin our webinar\, where our expert presenter will guide you through the fundamentals of SEO marketing. You&#39\;ll learn how to build an effective SEO marketing strategy\, discover quick and effective tactics for driving traffic to your website and monitor and maintain your site&#39\;s performance.<br />\n<br />\nLearning objectives:\n<ul>\n	<li>The three essential elements to rank high in search engines</li>\n	<li>Step-by-step instructions for picking high-potential keywords</li>\n	<li>How to seamlessly optimize on-page content for your target keywords</li>\n	<li>How to find and fix SEO issues dragging down your rankings</li>\n	<li>Simple techniques for getting reputable sites to link back to your website</li>\n	<li>How to monitor your site&#39\;s search engine performance using free tools</li>\n</ul>\n<br />\n<a href="https://www.score.org/event/learn-seo-basics-and-boost-your-website-traffic" target="_blank">Register Online</a>
LOCATION:Online Workshop
UID:e.1202.168692
SEQUENCE:3
DTSTAMP:20260422T102903Z
URL:https://business.cartersvillechamber.com/events/details/learn-the-seo-basics-online-workshop-168692
END:VEVENT

END:VCALENDAR
