BEGIN:VCALENDAR
VERSION:2.0
PRODID:-//ChamberMaster//Event Calendar 2.0//EN
METHOD:PUBLISH
X-PUBLISHED-TTL:P3D
REFRESH-INTERVAL:P3D
CALSCALE:GREGORIAN
BEGIN:VEVENT
DTSTART:20251029T140000Z
DTEND:20251029T153000Z
X-MICROSOFT-CDO-ALLDAYEVENT:FALSE
SUMMARY:"Leverage LinkedIn to Enhance Your Business Profile" Workshop
DESCRIPTION:"Leverage LinkedIn to Enhance Your Business Profile" Workshop\n\n\n\nWednesday\, October 29\, 2025\, 10 AM - 11:30 AM\n\nOnline Workshop\n\nFee: $10\n\n\n\nDo you want to find new customers using LinkedIn\, the world's largest professional network? This interactive session demonstrates how. You will receive practical tips and tools that B2B companies   businesses that sell to other businesses   as well as consultants and marketing and sales professionals use to increase their visibility and thought leadership on LinkedIn.\n\n\n\nThis Live Online Workshop covers:\n\n	Key elements to be included in your LinkedIn profile\n	Items to be incorporated in your company page\n	Comparing your social selling score with others in your industry and network\n	Leveraging mobile app features   video cover stories\, name pronunciation\, QR code connections\n	Growing the size and quality of your network\n	Getting more mileage from your posts (from hundreds to thousands of views)\n\nAttendees will receive a checklist of best practices for enhancing their profile.\n\n\n\n\n\nRegister Online
X-ALT-DESC;FMTTYPE=text/html:<strong>&quot\;Leverage LinkedIn to Enhance Your Business Profile&quot\; Workshop</strong><br />\n<br />\n<strong>Wednesday\, October 29\, 2025\, 10 AM - 11:30 AM<br />\nOnline Workshop<br />\nFee: $10</strong><br />\n<br />\nDo you want to find new customers using LinkedIn\, the world&rsquo\;s largest professional network? This interactive session demonstrates how. You will receive practical tips and tools that B2B companies &ndash\; businesses that sell to other businesses &ndash\; as well as consultants and marketing and sales professionals use to increase their visibility and thought leadership on LinkedIn.<br />\n<br />\nThis <strong>Live Online Workshop </strong>covers:\n<ul>\n	<li>Key elements to be included in your LinkedIn profile</li>\n	<li>Items to be incorporated in your company page</li>\n	<li>Comparing your social selling score with others in your industry and network</li>\n	<li>Leveraging mobile app features &ndash\; video cover stories\, name pronunciation\, QR code connections</li>\n	<li>Growing the size and quality of your network</li>\n	<li>Getting more mileage from your posts (from hundreds to thousands of views)</li>\n</ul>\nAttendees will receive a checklist of best practices for enhancing their profile.<br />\n<br />\n<br />\n<a href="https://www.score.org/northmetroatlanta/event/leverage-linkedin-enhance-your-business-profile-9" target="_blank">Register Online</a>
LOCATION:Online Workshop
UID:e.1202.171963
SEQUENCE:3
DTSTAMP:20260422T003708Z
URL:https://business.cartersvillechamber.com/events/details/leverage-linkedin-to-enhance-your-business-profile-workshop-171963
END:VEVENT

END:VCALENDAR
