BEGIN:VCALENDAR
VERSION:2.0
PRODID:-//ChamberMaster//Event Calendar 2.0//EN
METHOD:PUBLISH
X-PUBLISHED-TTL:P3D
REFRESH-INTERVAL:P3D
CALSCALE:GREGORIAN
BEGIN:VEVENT
DTSTART:20250204T230000Z
DTEND:20250205T003000Z
X-MICROSOFT-CDO-ALLDAYEVENT:FALSE
SUMMARY:Library Date Night
DESCRIPTION:Calling all bookish lovers! Join us for a date night in the stacks with The Library Date Night. You're BOOKED for the evening as we enjoy quality time in the library. You'll have the opportunity to join our Great Library Hunt\, take on some double dog dare tasks\, pick books for one another\, and enjoy some light refreshments. Registration is required\, so give us a call at 770-382-4203 ext. 138 or stop by the Reference Desk at the Cartersville Library!\n\n* For couples
X-ALT-DESC;FMTTYPE=text/html:<span style="color:rgb(62\, 62\, 62)\; font-family:system-ui\; font-size:12.8px">Calling all bookish lovers! Join us for a date night in the stacks with The Library Date&nbsp\;</span><span style="color:rgb(62\, 62\, 62)\; font-family:system-ui\; font-size:12.8px">Night. You&rsquo\;re BOOKED for the evening as we enjoy quality time in the library. You&rsquo\;ll have the opportunity to join our Great Library Hunt\, take on some double dog dare tasks\, pick books for one another\, and enjoy some light refreshments. Registration is required\, so give us a call at 770-382-4203 ext. 138 or stop by the Reference Desk at the Cartersville Library!<br />\n* For couples&nbsp\;</span>\n<div>&nbsp\;</div>\n
LOCATION:Cartersville Library Classroom 429 W Main St Cartersville GA
UID:e.1202.168662
SEQUENCE:3
DTSTAMP:20260422T115329Z
URL:https://business.cartersvillechamber.com/events/details/library-date-night-168662
END:VEVENT

END:VCALENDAR
