BEGIN:VCALENDAR
VERSION:2.0
PRODID:-//ChamberMaster//Event Calendar 2.0//EN
METHOD:PUBLISH
X-PUBLISHED-TTL:P3D
REFRESH-INTERVAL:P3D
CALSCALE:GREGORIAN
BEGIN:VEVENT
DTSTART:20260219T233000Z
DTEND:20260220T030000Z
X-MICROSOFT-CDO-ALLDAYEVENT:FALSE
SUMMARY:Line Dancing-Sixes Tavern
DESCRIPTION:Come boot\, scoot & boogie at Sixes Tavern for a fun Ladies Night with your girls!
X-ALT-DESC;FMTTYPE=text/html:Come boot\, scoot &amp\; boogie at Sixes Tavern for a fun Ladies Night with your girls!
LOCATION:650 Henderson Dr Cartersville\, Ga 30120
UID:e.1202.173578
SEQUENCE:3
DTSTAMP:20260421T174135Z
URL:https://business.cartersvillechamber.com/events/details/line-dancing-sixes-tavern-02-19-2026-173578
END:VEVENT

END:VCALENDAR
