BEGIN:VCALENDAR
VERSION:2.0
PRODID:-//ChamberMaster//Event Calendar 2.0//EN
METHOD:PUBLISH
X-PUBLISHED-TTL:P3D
REFRESH-INTERVAL:P3D
CALSCALE:GREGORIAN
BEGIN:VEVENT
DTSTART:20250612T220000Z
DTEND:20250613T020000Z
X-MICROSOFT-CDO-ALLDAYEVENT:FALSE
SUMMARY:Line Dancing-Sixes Tavern
DESCRIPTION:Ready to have some fun and get moving? Sixes Tavern is hosting a Line dancing Night to help get your feet tapping and your hearts pumping! No experience needed\, Just a good time with learning popular line dances.
X-ALT-DESC;FMTTYPE=text/html:Ready to have some fun and get moving? Sixes Tavern is hosting a Line dancing Night to help get your feet tapping and your hearts pumping! No experience needed\, Just a good time with learning popular line dances.
LOCATION:650 Henderson Dr. Cartersville\, Ga 30120
UID:e.1202.170966
SEQUENCE:3
DTSTAMP:20260422T062342Z
URL:https://business.cartersvillechamber.com/events/details/line-dancing-sixes-tavern-170966
END:VEVENT

END:VCALENDAR
