BEGIN:VCALENDAR
VERSION:2.0
PRODID:-//ChamberMaster//Event Calendar 2.0//EN
METHOD:PUBLISH
X-PUBLISHED-TTL:P3D
REFRESH-INTERVAL:P3D
CALSCALE:GREGORIAN
BEGIN:VEVENT
DTSTART:20250719T223000Z
DTEND:20250720T013000Z
X-MICROSOFT-CDO-ALLDAYEVENT:FALSE
SUMMARY:Live Music featuring Alex Winfield
DESCRIPTION:Welcome Alex Winfield! With almost 5 decades in the Southern music scene\, Alex offers a wide variety of great talent
X-ALT-DESC;FMTTYPE=text/html:Welcome Alex Winfield! With almost 5 decades in the Southern music scene\, Alex offers a wide variety of great talent
LOCATION:Olive Tree & Vine 26 W Main St Cartersville
UID:e.1202.171544
SEQUENCE:3
DTSTAMP:20260422T050436Z
URL:https://business.cartersvillechamber.com/events/details/live-music-featuring-alex-winfield-171544
END:VEVENT

END:VCALENDAR
