BEGIN:VCALENDAR
VERSION:2.0
PRODID:-//ChamberMaster//Event Calendar 2.0//EN
METHOD:PUBLISH
X-PUBLISHED-TTL:P3D
REFRESH-INTERVAL:P3D
CALSCALE:GREGORIAN
BEGIN:VEVENT
DTSTART:20260220T233000Z
DTEND:20260221T045500Z
X-MICROSOFT-CDO-ALLDAYEVENT:FALSE
SUMMARY:Live Music-Sixes Tavern
DESCRIPTION:Dinner & a Show! Chuck Martin & Line up Band Genre: 90's Country Music Curtains open at 6:30pm for dinner service. Music starts at 8:30pm.
X-ALT-DESC;FMTTYPE=text/html:Dinner &amp\; a Show! Chuck Martin &amp\; Line up Band Genre: 90&#39\;s Country Music Curtains open at 6:30pm for dinner service. Music starts at 8:30pm.
LOCATION:650 Henderson Dr Cartersville\, Ga 30120
UID:e.1202.173573
SEQUENCE:3
DTSTAMP:20260421T174445Z
URL:https://business.cartersvillechamber.com/events/details/live-music-sixes-tavern-02-20-2026-173573
END:VEVENT

END:VCALENDAR
