BEGIN:VCALENDAR
VERSION:2.0
PRODID:-//ChamberMaster//Event Calendar 2.0//EN
METHOD:PUBLISH
X-PUBLISHED-TTL:P3D
REFRESH-INTERVAL:P3D
CALSCALE:GREGORIAN
BEGIN:VEVENT
DTSTART:20250222T233000Z
DTEND:20250223T023000Z
X-MICROSOFT-CDO-ALLDAYEVENT:FALSE
SUMMARY:Live Music with Connor Priest
DESCRIPTION:Join us in welcoming Connor Priest back to Olive Tree & Vine!\n\nConnor was an American Idol contestant having gone through several rounds. He is a Nationally acclaimed local musician\, Live at Olive Tree & Vine
X-ALT-DESC;FMTTYPE=text/html:Join us in welcoming Connor Priest back to Olive Tree &amp\; Vine!<br />\n<span style="background-color:rgb(255\, 255\, 255)\; color:rgb(8\, 8\, 9)\; font-family:segoe ui historic\,segoe ui\,helvetica\,arial\,sans-serif\; font-size:14px">Connor was an American Idol contestant having gone through several rounds. He is a Nationally acclaimed local musician\, Live at Olive Tree &amp\; Vine</span><br />\n&nbsp\;
LOCATION:Olive Tree & Vine 26 W Main St Cartersville
UID:e.1202.168218
SEQUENCE:3
DTSTAMP:20260422T115458Z
URL:https://business.cartersvillechamber.com/events/details/live-music-with-harper-locklear-duo-168218
END:VEVENT

END:VCALENDAR
